BEGIN:VCALENDAR
VERSION:2.0
PRODID:-//Orchestre Lunae - ECPv6.15.20//NONSGML v1.0//EN
CALSCALE:GREGORIAN
METHOD:PUBLISH
X-WR-CALNAME:Orchestre Lunae
X-ORIGINAL-URL:https://www.orchestre-lunae.fr
X-WR-CALDESC:Évènements pour Orchestre Lunae
REFRESH-INTERVAL;VALUE=DURATION:PT1H
X-Robots-Tag:noindex
X-PUBLISHED-TTL:PT1H
BEGIN:VTIMEZONE
TZID:Europe/Paris
BEGIN:DAYLIGHT
TZOFFSETFROM:+0100
TZOFFSETTO:+0200
TZNAME:CEST
DTSTART:20250330T010000
END:DAYLIGHT
BEGIN:STANDARD
TZOFFSETFROM:+0200
TZOFFSETTO:+0100
TZNAME:CET
DTSTART:20251026T010000
END:STANDARD
BEGIN:DAYLIGHT
TZOFFSETFROM:+0100
TZOFFSETTO:+0200
TZNAME:CEST
DTSTART:20260329T010000
END:DAYLIGHT
BEGIN:STANDARD
TZOFFSETFROM:+0200
TZOFFSETTO:+0100
TZNAME:CET
DTSTART:20261025T010000
END:STANDARD
BEGIN:DAYLIGHT
TZOFFSETFROM:+0100
TZOFFSETTO:+0200
TZNAME:CEST
DTSTART:20270328T010000
END:DAYLIGHT
BEGIN:STANDARD
TZOFFSETFROM:+0200
TZOFFSETTO:+0100
TZNAME:CET
DTSTART:20271031T010000
END:STANDARD
END:VTIMEZONE
BEGIN:VEVENT
DTSTART;TZID=Europe/Paris:20260618T203000
DTEND;TZID=Europe/Paris:20260618T223000
DTSTAMP:20260420T073532
CREATED:20251125T142758Z
LAST-MODIFIED:20251125T144213Z
UID:2061-1781814600-1781821800@www.orchestre-lunae.fr
SUMMARY:Concert Requiem de Fauré\, Te Deum de Dvořák
DESCRIPTION:Concert Requiem de Fauré\, Te Deum de Dvořák				\n				\n				\n						\n					\n			\n						\n				\n					\n		\n			18 juin 2026\n\n	\n\n	  -  \n\n\n20h30\n\n		\n\n\n\n	\n	  -  \n\n22h30\n\n\n\n	\n				\n				\n					\n		\n				\n			\n						\n				\n					\nGratuit 				\n				\n					\n		\n					\n		\n				\n						\n					\n			\n						\n				\n									Programme :\nAntonín Dvořák (1841 – 1904) \nTe Deum \, op 103. \nI. Te Deum laudamus : Allegro moderato\, maestoso \nII. Tu Rex gloriae\, Christe : Lento maestoso \nIII. Aeterna fac cum sanctis : Vivace \nIV. Benedicamus Patrem : Lento \n  \nGabriel Fauré (1845 – 1924) \nRequiem\, op 48. \nI. Introït et Kyrie \nII. Offertoire \nIII. Sanctus \nIV. Pie Jesu \nV. Agnus Dei \nVI. Libera me \nVII. In Paradisum \n  \nOrchestre Lunae – Direction musicale : Florian Caroubi 								\n				\n					\n		\n				\n			\n						\n				\n																														\n				\n					\n		\n					\n		\n				\n				\n									Affiche par Blandine Boucheron :  \nSite internet \nContact : bonjour.saugrenu@gmail.com 								\n				\n				\n				\n					\n	\n		\n\n	\n	Ajouter au calendrier	\n		\n	\n\n		\n			\n									\n	Google Agenda\n\n									\n	iCalendar\n\n									\n	Outlook 365\n\n									\n	Outlook Live\n\n							\n		\n\n		\n	\n\n				\n				\n				\n				\n					\n	« Tous les Évènements\n 				\n				\n				\n				\n							\n			\n						\n		\n						\n				\n					\n		\n					\n		\n				\n						\n					\n			\n						\n						\n					\n			\n						\n				\n									DETAILS								\n				\n					\n		\n					\n		\n				\n				\n					\n	\n	Date et heure :	\n			18 juin\n\n	\n\n	  -  \n\n\n20h30\n\n		\n\n\n\n	\n	  -  \n\n22h30\n\n\n\n	\n				\n				\n				\n				\n					\n	Coût :\nGratuit 				\n				\n				\n				\n					\n	\n	Organisateur\n	Orchestre Lunae\n	\n	\n	E-mail :\n					\n			orchestre.lunae@gmail.com			\n	 \n\n\n\n				\n				\n					\n		\n				\n			\n						\n						\n					\n			\n						\n				\n									LIEU								\n				\n					\n		\n				\n			\n							\n		\n					\n		\n				\n				\n					\n				\n				\n	\n	Eglise Sainte-Elisabeth\n	\n	\n\n60 Rue Philippe de Lassalle\n	\n		\n		Lyon\,\n\n\n	69004\n\n	France\n\n\n\n\n	+ Google Map
URL:https://www.orchestre-lunae.fr/evenement/concert-requiem-de-faure-te-deum-de-dvorak/
LOCATION:Eglise Sainte-Elisabeth\, 60 Rue Philippe de Lassalle\, Lyon\, 69004\, France
CATEGORIES:concert
ATTACH;FMTTYPE=image/jpeg:https://www.orchestre-lunae.fr/wp-content/uploads/2025/11/DSC01087-e1763461536647.jpg
ORGANIZER;CN="Orchestre Lunae":MAILTO:orchestre.lunae@gmail.com
END:VEVENT
END:VCALENDAR